Package: multicrispr Version: 1.18.0 Maintainer: Aditya Bhagwat MaintainerEmail: aditya.bhagwat at uni-marburg.de git_url: https://git.bioconductor.org/packages/multicrispr git_branch: RELEASE_3_21 git_last_commit: a34c106 git_last_commit_date: 2025-04-15 11:59:40 -0400 (Tue, 15 Apr 2025)