Package: multiWGCNA Version: 1.8.0 Command: /home/biocbuild/R/R/bin/R CMD INSTALL multiWGCNA StartedAt: 2025-11-13 21:57:04 -0000 (Thu, 13 Nov 2025) EndedAt: 2025-11-13 21:57:49 -0000 (Thu, 13 Nov 2025) EllapsedTime: 44.9 seconds RetCode: 0 Status: OK