Package: multiWGCNA Version: 1.8.0 Command: /home/biocbuild/R/R/bin/R CMD build --keep-empty-dirs --no-resave-data multiWGCNA StartedAt: 2025-11-14 03:42:20 -0000 (Fri, 14 Nov 2025) EndedAt: 2025-11-14 03:47:52 -0000 (Fri, 14 Nov 2025) EllapsedTime: 332.1 seconds RetCode: 0 Status: OK PackageFile: multiWGCNA_1.8.0.tar.gz PackageFileSize: 1.963 MiB