Package: multiWGCNA Version: 1.8.0 Command: /home/biocbuild/bbs-3.22-bioc/R/bin/R CMD INSTALL multiWGCNA StartedAt: 2025-11-11 15:48:45 -0500 (Tue, 11 Nov 2025) EndedAt: 2025-11-11 15:49:18 -0500 (Tue, 11 Nov 2025) EllapsedTime: 33.1 seconds RetCode: 0 Status: OK