Package: multiWGCNA Version: 1.8.0 Command: /home/biocbuild/bbs-3.22-bioc/R/bin/R CMD check --install=check:multiWGCNA.install-out.txt --library=/home/biocbuild/bbs-3.22-bioc/R/site-library --timings multiWGCNA_1.8.0.tar.gz StartedAt: 2025-11-12 02:01:32 -0500 (Wed, 12 Nov 2025) EndedAt: 2025-11-12 02:11:28 -0500 (Wed, 12 Nov 2025) EllapsedTime: 595.7 seconds RetCode: 1 Status: ERROR CheckDir: multiWGCNA.Rcheck Warnings: NA