Package: multiWGCNA Version: 1.6.0 Command: /home/biocbuild/bbs-3.21-bioc/R/bin/R CMD INSTALL multiWGCNA StartedAt: 2025-10-08 15:47:27 -0400 (Wed, 08 Oct 2025) EndedAt: 2025-10-08 15:48:00 -0400 (Wed, 08 Oct 2025) EllapsedTime: 33.3 seconds RetCode: 0 Status: OK