Package: multiWGCNA Version: 1.6.0 Command: /home/biocbuild/bbs-3.21-bioc/R/bin/R CMD build --keep-empty-dirs --no-resave-data multiWGCNA StartedAt: 2025-10-08 18:46:20 -0400 (Wed, 08 Oct 2025) EndedAt: 2025-10-08 18:50:31 -0400 (Wed, 08 Oct 2025) EllapsedTime: 251.2 seconds RetCode: 0 Status: OK PackageFile: multiWGCNA_1.6.0.tar.gz PackageFileSize: 3.43 MiB