Package: multiWGCNA Version: 1.6.0 Command: /Library/Frameworks/R.framework/Resources/bin/R CMD build --keep-empty-dirs --no-resave-data multiWGCNA StartedAt: 2025-10-10 05:38:08 -0400 (Fri, 10 Oct 2025) EndedAt: 2025-10-10 05:43:44 -0400 (Fri, 10 Oct 2025) EllapsedTime: 336.0 seconds RetCode: 0 Status: OK PackageFile: multiWGCNA_1.6.0.tar.gz PackageFileSize: 3.595 MiB