Package: multiMiR Version: 1.32.0 Command: /home/biocbuild/R/R/bin/R CMD build --keep-empty-dirs --no-resave-data multiMiR StartedAt: 2025-11-11 03:38:27 -0000 (Tue, 11 Nov 2025) EndedAt: 2025-11-11 03:40:51 -0000 (Tue, 11 Nov 2025) EllapsedTime: 144.1 seconds RetCode: 0 Status: OK PackageFile: multiMiR_1.32.0.tar.gz PackageFileSize: 400.5 KiB