Package: multiMiR Version: 1.30.0 Command: /Library/Frameworks/R.framework/Resources/bin/R CMD INSTALL multiMiR StartedAt: 2025-10-13 15:47:00 -0400 (Mon, 13 Oct 2025) EndedAt: 2025-10-13 15:47:40 -0400 (Mon, 13 Oct 2025) EllapsedTime: 40.8 seconds RetCode: 0 Status: OK