Package: multiMiR Version: 1.30.0 Command: /Library/Frameworks/R.framework/Resources/bin/R CMD build --keep-empty-dirs --no-resave-data multiMiR StartedAt: 2025-10-13 21:00:24 -0400 (Mon, 13 Oct 2025) EndedAt: 2025-10-13 21:02:27 -0400 (Mon, 13 Oct 2025) EllapsedTime: 123.8 seconds RetCode: 0 Status: OK PackageFile: multiMiR_1.30.0.tar.gz PackageFileSize: 332.3 KiB