Package: multiHiCcompare Version: 1.28.0 Command: /home/biocbuild/R/R/bin/R CMD INSTALL multiHiCcompare StartedAt: 2025-11-10 21:40:11 -0000 (Mon, 10 Nov 2025) EndedAt: 2025-11-10 21:40:52 -0000 (Mon, 10 Nov 2025) EllapsedTime: 40.4 seconds RetCode: 0 Status: OK