Package: multiHiCcompare Version: 1.28.0 Command: /home/biocbuild/R/R/bin/R CMD build --keep-empty-dirs --no-resave-data multiHiCcompare StartedAt: 2025-11-11 03:38:19 -0000 (Tue, 11 Nov 2025) EndedAt: 2025-11-11 03:39:44 -0000 (Tue, 11 Nov 2025) EllapsedTime: 85.0 seconds RetCode: 0 Status: OK PackageFile: multiHiCcompare_1.28.0.tar.gz PackageFileSize: 4.437 MiB