Package: multiHiCcompare Version: 1.26.0 Command: E:\biocbuild\bbs-3.21-bioc\R\bin\R.exe CMD INSTALL multiHiCcompare StartedAt: 2025-08-14 16:27:05 -0400 (Thu, 14 Aug 2025) EndedAt: 2025-08-14 16:28:16 -0400 (Thu, 14 Aug 2025) EllapsedTime: 71.4 seconds RetCode: 0 Status: OK