Package: multiHiCcompare Version: 1.26.0 Command: rm -rf multiHiCcompare.buildbin-libdir && mkdir multiHiCcompare.buildbin-libdir && E:\biocbuild\bbs-3.21-bioc\R\bin\R.exe CMD INSTALL --build --library=multiHiCcompare.buildbin-libdir multiHiCcompare_1.26.0.tar.gz StartedAt: 2025-08-15 09:48:21 -0400 (Fri, 15 Aug 2025) EndedAt: 2025-08-15 09:49:35 -0400 (Fri, 15 Aug 2025) EllapsedTime: 74.0 seconds RetCode: 0 Status: OK PackageFile: multiHiCcompare_1.26.0.zip PackageFileSize: 5.102 MiB