Package: multiHiCcompare Version: 1.28.0 Command: /home/biocbuild/bbs-3.22-bioc/R/bin/R CMD INSTALL multiHiCcompare StartedAt: 2025-11-11 15:36:01 -0500 (Tue, 11 Nov 2025) EndedAt: 2025-11-11 15:36:30 -0500 (Tue, 11 Nov 2025) EllapsedTime: 28.7 seconds RetCode: 0 Status: OK