Package: multiHiCcompare Version: 1.28.0 Command: /home/biocbuild/bbs-3.22-bioc/R/bin/R CMD check --install=check:multiHiCcompare.install-out.txt --library=/home/biocbuild/bbs-3.22-bioc/R/site-library --timings multiHiCcompare_1.28.0.tar.gz StartedAt: 2025-11-12 02:00:51 -0500 (Wed, 12 Nov 2025) EndedAt: 2025-11-12 02:05:19 -0500 (Wed, 12 Nov 2025) EllapsedTime: 267.4 seconds RetCode: 0 Status: OK CheckDir: multiHiCcompare.Rcheck Warnings: 0