Package: multiHiCcompare Version: 1.28.0 Command: /home/biocbuild/bbs-3.22-bioc/R/bin/R CMD build --keep-empty-dirs --no-resave-data --md5 multiHiCcompare StartedAt: 2025-11-11 19:02:40 -0500 (Tue, 11 Nov 2025) EndedAt: 2025-11-11 19:03:41 -0500 (Tue, 11 Nov 2025) EllapsedTime: 61.1 seconds RetCode: 0 Status: OK PackageFile: multiHiCcompare_1.28.0.tar.gz PackageFileSize: 4.744 MiB