Package: multiGSEA Version: 1.20.0 Command: /home/biocbuild/bbs-3.22-bioc/R/bin/R CMD INSTALL multiGSEA StartedAt: 2025-11-11 15:33:41 -0500 (Tue, 11 Nov 2025) EndedAt: 2025-11-11 15:34:58 -0500 (Tue, 11 Nov 2025) EllapsedTime: 76.7 seconds RetCode: 0 Status: OK