Package: multiGSEA Version: 1.20.0 Command: /home/biocbuild/bbs-3.22-bioc/R/bin/R CMD check --install=check:multiGSEA.install-out.txt --library=/home/biocbuild/bbs-3.22-bioc/R/site-library --timings multiGSEA_1.20.0.tar.gz StartedAt: 2025-11-14 02:04:37 -0500 (Fri, 14 Nov 2025) EndedAt: 2025-11-14 02:33:40 -0500 (Fri, 14 Nov 2025) EllapsedTime: 1743.1 seconds RetCode: 0 Status: OK CheckDir: multiGSEA.Rcheck Warnings: 0