Package: multiGSEA Version: 1.20.0 Command: /home/biocbuild/bbs-3.22-bioc/R/bin/R CMD build --keep-empty-dirs --no-resave-data --md5 multiGSEA StartedAt: 2025-11-11 19:02:38 -0500 (Tue, 11 Nov 2025) EndedAt: 2025-11-11 19:23:25 -0500 (Tue, 11 Nov 2025) EllapsedTime: 1247.2 seconds RetCode: 0 Status: OK PackageFile: multiGSEA_1.20.0.tar.gz PackageFileSize: 954.3 KiB