Package: multiGSEA Version: 1.18.0 Command: /home/biocbuild/R/R/bin/R CMD build --keep-empty-dirs --no-resave-data multiGSEA StartedAt: 2025-09-26 04:17:38 -0000 (Fri, 26 Sep 2025) EndedAt: 2025-09-26 04:57:39 -0000 (Fri, 26 Sep 2025) EllapsedTime: 2401.0 seconds RetCode: None Status: TIMEOUT PackageFile: None PackageFileSize: NA