Package: multiClust Version: 1.40.0 Command: /home/biocbuild/R/R/bin/R CMD INSTALL multiClust StartedAt: 2025-11-13 21:12:32 -0000 (Thu, 13 Nov 2025) EndedAt: 2025-11-13 21:12:46 -0000 (Thu, 13 Nov 2025) EllapsedTime: 14.9 seconds RetCode: 0 Status: OK