Package: multiClust Version: 1.40.0 Command: /home/biocbuild/R/R/bin/R CMD build --keep-empty-dirs --no-resave-data multiClust StartedAt: 2025-11-14 03:41:27 -0000 (Fri, 14 Nov 2025) EndedAt: 2025-11-14 03:42:08 -0000 (Fri, 14 Nov 2025) EllapsedTime: 41.0 seconds RetCode: 0 Status: OK PackageFile: multiClust_1.40.0.tar.gz PackageFileSize: 2.967 MiB