Package: multiClust Version: 1.40.0 Command: /home/biocbuild/bbs-3.22-bioc/R/bin/R CMD INSTALL multiClust StartedAt: 2025-11-11 15:12:49 -0500 (Tue, 11 Nov 2025) EndedAt: 2025-11-11 15:12:57 -0500 (Tue, 11 Nov 2025) EllapsedTime: 7.6 seconds RetCode: 0 Status: OK