Package: multiClust Version: 1.38.0 Command: /home/biocbuild/bbs-3.21-bioc/R/bin/R CMD INSTALL multiClust StartedAt: 2025-10-12 15:08:32 -0400 (Sun, 12 Oct 2025) EndedAt: 2025-10-12 15:08:39 -0400 (Sun, 12 Oct 2025) EllapsedTime: 7.5 seconds RetCode: 0 Status: OK