Package: multiClust Version: 1.38.0 Command: /home/biocbuild/bbs-3.21-bioc/R/bin/R CMD build --keep-empty-dirs --no-resave-data multiClust StartedAt: 2025-10-12 18:46:10 -0400 (Sun, 12 Oct 2025) EndedAt: 2025-10-12 18:46:37 -0400 (Sun, 12 Oct 2025) EllapsedTime: 27.0 seconds RetCode: 0 Status: OK PackageFile: multiClust_1.38.0.tar.gz PackageFileSize: 3.025 MiB