Package: multiClust Version: 1.38.0 Command: /Library/Frameworks/R.framework/Resources/bin/R CMD INSTALL multiClust StartedAt: 2025-10-09 15:21:41 -0400 (Thu, 09 Oct 2025) EndedAt: 2025-10-09 15:21:52 -0400 (Thu, 09 Oct 2025) EllapsedTime: 11.8 seconds RetCode: 0 Status: OK