Package: multiClust Version: 1.38.0 Command: rm -rf multiClust.buildbin-libdir && mkdir multiClust.buildbin-libdir && /Users/biocbuild/BBS/utils/build-universal.sh multiClust_1.38.0.tar.gz /Library/Frameworks/R.framework/Resources/bin/R multiClust.buildbin-libdir StartedAt: 2025-10-15 19:32:03 -0400 (Wed, 15 Oct 2025) EndedAt: 2025-10-15 19:32:15 -0400 (Wed, 15 Oct 2025) EllapsedTime: 12.3 seconds RetCode: 0 Status: OK PackageFile: multiClust_1.38.0.tgz PackageFileSize: 3.1 MiB