Package: msqrob2 Version: 1.16.0 Command: /Library/Frameworks/R.framework/Resources/bin/R CMD build --keep-empty-dirs --no-resave-data msqrob2 StartedAt: 2025-04-21 17:04:44 -0400 (Mon, 21 Apr 2025) EndedAt: 2025-04-21 17:05:31 -0400 (Mon, 21 Apr 2025) EllapsedTime: 47.5 seconds RetCode: 0 Status: OK PackageFile: msqrob2_1.16.0.tar.gz PackageFileSize: 2.341 MiB