Package: msmsTests Version: 1.48.0 Command: /home/biocbuild/R/R/bin/R CMD INSTALL msmsTests StartedAt: 2025-11-10 21:48:00 -0000 (Mon, 10 Nov 2025) EndedAt: 2025-11-10 21:48:51 -0000 (Mon, 10 Nov 2025) EllapsedTime: 51.1 seconds RetCode: 0 Status: OK