Package: msmsTests Version: 1.48.0 Command: /home/biocbuild/R/R/bin/R CMD build --keep-empty-dirs --no-resave-data msmsTests StartedAt: 2025-11-11 03:33:15 -0000 (Tue, 11 Nov 2025) EndedAt: 2025-11-11 03:35:00 -0000 (Tue, 11 Nov 2025) EllapsedTime: 105.0 seconds RetCode: 0 Status: OK PackageFile: msmsTests_1.48.0.tar.gz PackageFileSize: 534.9 KiB