Package: msmsTests Version: 1.48.0 Command: /home/biocbuild/bbs-3.22-bioc/R/bin/R CMD INSTALL msmsTests StartedAt: 2025-11-11 15:42:27 -0500 (Tue, 11 Nov 2025) EndedAt: 2025-11-11 15:43:04 -0500 (Tue, 11 Nov 2025) EllapsedTime: 37.3 seconds RetCode: 0 Status: OK