Package: msmsTests Version: 1.46.0 Command: /home/biocbuild/bbs-3.21-bioc/R/bin/R CMD INSTALL msmsTests StartedAt: 2025-09-28 15:52:22 -0400 (Sun, 28 Sep 2025) EndedAt: 2025-09-28 15:53:01 -0400 (Sun, 28 Sep 2025) EllapsedTime: 38.9 seconds RetCode: 0 Status: OK