Package: msmsTests Version: 1.46.0 Command: /Library/Frameworks/R.framework/Resources/bin/R CMD build --keep-empty-dirs --no-resave-data msmsTests StartedAt: 2025-10-13 20:54:15 -0400 (Mon, 13 Oct 2025) EndedAt: 2025-10-13 20:57:33 -0400 (Mon, 13 Oct 2025) EllapsedTime: 197.9 seconds RetCode: 0 Status: OK PackageFile: msmsTests_1.46.0.tar.gz PackageFileSize: 547.8 KiB