Package: msmsTests Version: 1.46.0 Command: rm -rf msmsTests.buildbin-libdir && mkdir msmsTests.buildbin-libdir && /Users/biocbuild/BBS/utils/build-universal.sh msmsTests_1.46.0.tar.gz /Library/Frameworks/R.framework/Resources/bin/R msmsTests.buildbin-libdir StartedAt: 2025-10-14 14:10:54 -0400 (Tue, 14 Oct 2025) EndedAt: 2025-10-14 14:13:01 -0400 (Tue, 14 Oct 2025) EllapsedTime: 127.4 seconds RetCode: 0 Status: OK PackageFile: msmsTests_1.46.0.tgz PackageFileSize: 582.6 KiB