Package: msmsTests Version: 1.46.0 Command: /Library/Frameworks/R.framework/Resources/bin/R CMD build --keep-empty-dirs --no-resave-data msmsTests StartedAt: 2025-04-21 17:38:32 -0400 (Mon, 21 Apr 2025) EndedAt: 2025-04-21 17:40:20 -0400 (Mon, 21 Apr 2025) EllapsedTime: 108.5 seconds RetCode: 0 Status: OK PackageFile: msmsTests_1.46.0.tar.gz PackageFileSize: 546.8 KiB