Package: msmsTests Version: 1.46.0 Command: rm -rf msmsTests.buildbin-libdir && mkdir msmsTests.buildbin-libdir && /Users/biocbuild/BBS/utils/build-universal.sh msmsTests_1.46.0.tar.gz /Library/Frameworks/R.framework/Resources/bin/R msmsTests.buildbin-libdir StartedAt: 2025-04-22 00:56:43 -0400 (Tue, 22 Apr 2025) EndedAt: 2025-04-22 00:57:35 -0400 (Tue, 22 Apr 2025) EllapsedTime: 51.9 seconds RetCode: 0 Status: OK PackageFile: msmsTests_1.46.0.tgz PackageFileSize: 581.8 KiB