Package: msmsTests Version: 1.46.0 Command: /Library/Frameworks/R.framework/Resources/bin/R CMD INSTALL msmsTests StartedAt: 2025-09-25 17:06:19 -0400 (Thu, 25 Sep 2025) EndedAt: 2025-09-25 17:07:06 -0400 (Thu, 25 Sep 2025) EllapsedTime: 46.7 seconds RetCode: 0 Status: OK