Package: msmsTests Version: 1.46.0 Command: rm -rf msmsTests.buildbin-libdir && mkdir msmsTests.buildbin-libdir && /Users/biocbuild/BBS/utils/build-universal.sh msmsTests_1.46.0.tar.gz /Library/Frameworks/R.framework/Resources/bin/R msmsTests.buildbin-libdir StartedAt: 2025-09-27 18:28:32 -0400 (Sat, 27 Sep 2025) EndedAt: 2025-09-27 18:29:23 -0400 (Sat, 27 Sep 2025) EllapsedTime: 50.9 seconds RetCode: 0 Status: OK PackageFile: msmsTests_1.46.0.tgz PackageFileSize: 583.3 KiB