Package: msmsEDA Version: 1.46.0 Command: /home/biocbuild/bbs-3.21-bioc/R/bin/R CMD build --keep-empty-dirs --no-resave-data msmsEDA StartedAt: 2025-10-12 18:43:17 -0400 (Sun, 12 Oct 2025) EndedAt: 2025-10-12 18:44:11 -0400 (Sun, 12 Oct 2025) EllapsedTime: 54.0 seconds RetCode: 0 Status: OK PackageFile: msmsEDA_1.46.0.tar.gz PackageFileSize: 439.2 KiB