Package: msmsEDA Version: 1.46.0 Command: rm -rf msmsEDA.buildbin-libdir && mkdir msmsEDA.buildbin-libdir && /Users/biocbuild/BBS/utils/build-universal.sh msmsEDA_1.46.0.tar.gz /Library/Frameworks/R.framework/Resources/bin/R msmsEDA.buildbin-libdir StartedAt: 2025-04-22 00:56:42 -0400 (Tue, 22 Apr 2025) EndedAt: 2025-04-22 00:57:34 -0400 (Tue, 22 Apr 2025) EllapsedTime: 51.9 seconds RetCode: 0 Status: OK PackageFile: msmsEDA_1.46.0.tgz PackageFileSize: 495.5 KiB