Package: msmsEDA Version: 1.46.0 Command: /Library/Frameworks/R.framework/Resources/bin/R CMD INSTALL msmsEDA StartedAt: 2025-10-13 17:05:33 -0400 (Mon, 13 Oct 2025) EndedAt: 2025-10-13 17:06:18 -0400 (Mon, 13 Oct 2025) EllapsedTime: 45.2 seconds RetCode: 0 Status: OK