Package: msmsEDA Version: 1.46.0 Command: /Library/Frameworks/R.framework/Resources/bin/R CMD build --keep-empty-dirs --no-resave-data msmsEDA StartedAt: 2025-10-10 05:25:19 -0400 (Fri, 10 Oct 2025) EndedAt: 2025-10-10 05:26:30 -0400 (Fri, 10 Oct 2025) EllapsedTime: 70.7 seconds RetCode: 0 Status: OK PackageFile: msmsEDA_1.46.0.tar.gz PackageFileSize: 439.2 KiB