Package: msmsEDA Version: 1.46.0 Command: rm -rf msmsEDA.buildbin-libdir && mkdir msmsEDA.buildbin-libdir && /Users/biocbuild/BBS/utils/build-universal.sh msmsEDA_1.46.0.tar.gz /Library/Frameworks/R.framework/Resources/bin/R msmsEDA.buildbin-libdir StartedAt: 2025-10-11 21:13:12 -0400 (Sat, 11 Oct 2025) EndedAt: 2025-10-11 21:14:07 -0400 (Sat, 11 Oct 2025) EllapsedTime: 54.8 seconds RetCode: 0 Status: OK PackageFile: msmsEDA_1.46.0.tgz PackageFileSize: 496.2 KiB