Package: mslp Version: 1.12.0 Command: /home/biocbuild/bbs-3.22-bioc/R/bin/R CMD build --keep-empty-dirs --no-resave-data --md5 mslp StartedAt: 2025-11-13 18:57:16 -0500 (Thu, 13 Nov 2025) EndedAt: 2025-11-13 18:57:54 -0500 (Thu, 13 Nov 2025) EllapsedTime: 38.0 seconds RetCode: 0 Status: OK PackageFile: mslp_1.12.0.tar.gz PackageFileSize: 408.9 KiB