Package: mslp Version: 1.10.0 Command: /home/biocbuild/R/R/bin/R CMD INSTALL mslp StartedAt: 2025-10-13 20:40:50 -0000 (Mon, 13 Oct 2025) EndedAt: 2025-10-13 20:40:53 -0000 (Mon, 13 Oct 2025) EllapsedTime: 2.7 seconds RetCode: 0 Status: OK