Package: msgbsR Version: 1.34.0 Command: /home/biocbuild/R/R/bin/R CMD INSTALL msgbsR StartedAt: 2025-11-10 22:02:38 -0000 (Mon, 10 Nov 2025) EndedAt: 2025-11-10 22:03:56 -0000 (Mon, 10 Nov 2025) EllapsedTime: 77.3 seconds RetCode: 0 Status: OK