Package: msgbsR Version: 1.32.0 Command: chmod a+r msgbsR -R && E:\biocbuild\bbs-3.21-bioc\R\bin\R.exe CMD build --keep-empty-dirs --no-resave-data msgbsR StartedAt: 2025-08-14 20:38:36 -0400 (Thu, 14 Aug 2025) EndedAt: 2025-08-14 20:40:54 -0400 (Thu, 14 Aug 2025) EllapsedTime: 137.9 seconds RetCode: 0 Status: OK PackageFile: msgbsR_1.32.0.tar.gz PackageFileSize: 15.16 MiB