Package: msgbsR Version: 1.32.0 Command: /home/biocbuild/bbs-3.21-bioc/R/bin/R CMD INSTALL msgbsR StartedAt: 2025-09-28 16:07:06 -0400 (Sun, 28 Sep 2025) EndedAt: 2025-09-28 16:08:03 -0400 (Sun, 28 Sep 2025) EllapsedTime: 57.5 seconds RetCode: 0 Status: OK